BEGIN:VCALENDAR
VERSION:2.0
PRODID:-//ChamberMaster//Event Calendar 2.0//EN
METHOD:PUBLISH
X-PUBLISHED-TTL:P3D
REFRESH-INTERVAL:P3D
CALSCALE:GREGORIAN
BEGIN:VEVENT
DTSTART:20260502T180000Z
DTEND:20260502T200000Z
X-MICROSOFT-CDO-ALLDAYEVENT:FALSE
SUMMARY:Mommy & Me Paint Class
DESCRIPTION:Our Mommy & Me Paint Class is the perfect mix of creativity\, bonding\, and laughs!\n\nYou'll each paint one half of this adorable giraffe duo   and put them together for the cutest keepsake ever!\n\n   No experience needed\n\n   All supplies included\n\n   Just show up and have fun\n\n  Saturday\, May 2 | 1 3 PM\n\n  $35 Adult | $10 Child\n\n  Ages 7+\n\n https://www.quintonscrafthouse.com/.../pro.../Classes/09G04Y
X-ALT-DESC;FMTTYPE=text/html:Our Mommy &amp\; Me Paint Class is the perfect mix of creativity\, bonding\, and laughs!<br />\nYou&rsquo\;ll each paint one half of this adorable giraffe duo &#129426\; and put them together for the cutest keepsake ever!<br />\n&#10004\;&#65039\; No experience needed<br />\n&#10004\;&#65039\; All supplies included<br />\n&#10004\;&#65039\; Just show up and have fun<br />\n&#128197\; Saturday\, May 2 | 1&ndash\;3 PM<br />\n&#128178\; $35 Adult | $10 Child<br />\n&#128103\; Ages 7+<br />\n&#129681\;https://www.quintonscrafthouse.com/.../pro.../Classes/09G04Y
LOCATION:Quinton's Crafthouse 126 W Main St Collinsville\, Illinois
UID:e.504.10692
SEQUENCE:3
DTSTAMP:20260420T195114Z
URL:http://www.discovercollinsville.com/events/details/mommy-me-paint-class-10692
END:VEVENT

END:VCALENDAR
