BEGIN:VCALENDAR
VERSION:2.0
PRODID:-//ChamberMaster//Event Calendar 2.0//EN
METHOD:PUBLISH
X-PUBLISHED-TTL:P3D
REFRESH-INTERVAL:P3D
CALSCALE:GREGORIAN
BEGIN:VEVENT
DTSTART;VALUE=DATE:20260424
DTEND;VALUE=DATE:20260427
TRANSP:TRANSPARENT
X-MICROSOFT-CDO-ALLDAYEVENT:TRUE
SUMMARY:Spring Market 2026 at the Cahokia Mounds State Historic Site
DESCRIPTION:The annual Spring Indigenous Market will return to the Cahokia Mounds Interpretive Center ! This event will take place April 24 from 12  5 pm\, April 25 from 9 am till 5 pm\, and on Sunday April 26 from 9am till 4 pm and is free to attend.\n\n\n\nOver 30 Native American artists from various affiliations and across the country will be here selling Native American-made arts and crafts\, including pottery\, jewelry\, embroidery\, textiles\, paintings\, and more. For more information contact Bridget at 618-344-9221.
X-ALT-DESC;FMTTYPE=text/html:The annual Spring Indigenous Market will return to the Cahokia Mounds Interpretive Center ! This event will take place April 24 from 12&ndash\; 5 pm\, April 25 from 9 am till 5 pm\, and on Sunday April 26 from 9am till 4 pm and is free to attend.<br />\n<br />\nOver 30 Native American artists from various affiliations and across the country will be here selling Native American-made arts and crafts\, including pottery\, jewelry\, embroidery\, textiles\, paintings\, and more. For more information contact Bridget at 618-344-9221.
LOCATION:Interpretive Center Lobby 30 Ramey St\, Collinsville IL
UID:e.504.10694
SEQUENCE:3
DTSTAMP:20260422T195551Z
URL:http://www.discovercollinsville.com/events/details/spring-market-2026-at-the-cahokia-mounds-state-historic-site-10694
END:VEVENT

END:VCALENDAR
