BEGIN:VCALENDAR
VERSION:2.0
PRODID:-//ChamberMaster//Event Calendar 2.0//EN
METHOD:PUBLISH
X-PUBLISHED-TTL:P3D
REFRESH-INTERVAL:P3D
CALSCALE:GREGORIAN
BEGIN:VEVENT
DTSTART:20260430T230000Z
DTEND:20260501T010000Z
X-MICROSOFT-CDO-ALLDAYEVENT:FALSE
SUMMARY:Your Story: Museum
DESCRIPTION:Your story deserves to be displayed!\n\nCreate a one-of-a-kind shadowbox filled with your favorite memories vacations\, weddings\, family moments\, friendships\, and more.\n\nWe provide everything you need.\n\nOur instructor will contact you regarding photos.\n\n  Thursday\, April 30\n\n  6:00   8:00 PM\n\n  $58 per person\n\n  Quinton's Crafthouse\n\n126 W. Main Street   Collinsville\n\n  https://www.quintonscrafthouse.com/.../pro.../Classes/08J0BR
X-ALT-DESC;FMTTYPE=text/html:Your story deserves to be displayed!<br />\nCreate a one-of-a-kind shadowbox filled with your favorite memories&mdash\;vacations\, weddings\, family moments\, friendships\, and more.<br />\nWe provide everything you need.<br />\nOur instructor will contact you regarding photos.<br />\n&#128467\; Thursday\, April 30<br />\n&#9200\; 6:00 &ndash\; 8:00 PM<br />\n&#128178\; $58 per person<br />\n&#128205\; Quinton&rsquo\;s Crafthouse<br />\n126 W. Main Street &ndash\; Collinsville<br />\n&#129681\; https://www.quintonscrafthouse.com/.../pro.../Classes/08J0BR<br />\n<br />\n&nbsp\;
LOCATION:Quinton's Crafthouse 126 W Main Street Collinsville\, Illinois
UID:e.504.10691
SEQUENCE:3
DTSTAMP:20260420T200006Z
URL:http://www.discovercollinsville.com/events/details/your-story-museum-10691
END:VEVENT

END:VCALENDAR
